BEGIN:VCALENDAR
VERSION:2.0
PRODID:-//PtownBears.events - ECPv6.15.20//NONSGML v1.0//EN
CALSCALE:GREGORIAN
METHOD:PUBLISH
X-WR-CALNAME:PtownBears.events
X-ORIGINAL-URL:https://www.ptownbears.events
X-WR-CALDESC:Events for PtownBears.events
REFRESH-INTERVAL;VALUE=DURATION:PT1H
X-Robots-Tag:noindex
X-PUBLISHED-TTL:PT1H
BEGIN:VTIMEZONE
TZID:America/New_York
BEGIN:DAYLIGHT
TZOFFSETFROM:-0500
TZOFFSETTO:-0400
TZNAME:EDT
DTSTART:20250309T070000
END:DAYLIGHT
BEGIN:STANDARD
TZOFFSETFROM:-0400
TZOFFSETTO:-0500
TZNAME:EST
DTSTART:20251102T060000
END:STANDARD
BEGIN:DAYLIGHT
TZOFFSETFROM:-0500
TZOFFSETTO:-0400
TZNAME:EDT
DTSTART:20260308T070000
END:DAYLIGHT
BEGIN:STANDARD
TZOFFSETFROM:-0400
TZOFFSETTO:-0500
TZNAME:EST
DTSTART:20261101T060000
END:STANDARD
BEGIN:DAYLIGHT
TZOFFSETFROM:-0500
TZOFFSETTO:-0400
TZNAME:EDT
DTSTART:20270314T070000
END:DAYLIGHT
BEGIN:STANDARD
TZOFFSETFROM:-0400
TZOFFSETTO:-0500
TZNAME:EST
DTSTART:20271107T060000
END:STANDARD
END:VTIMEZONE
BEGIN:VEVENT
DTSTART;TZID=America/New_York:20260711T110000
DTEND;TZID=America/New_York:20260711T150000
DTSTAMP:20260419T151819
CREATED:20260418T215704Z
LAST-MODIFIED:20260418T221204Z
UID:10001951-1783767600-1783782000@www.ptownbears.events
SUMMARY:Cannon Ball Bear Week Pool Party
DESCRIPTION:Free w/ PtownBears Tea Dance Pass. \nBear Week Bear Tag holders can use their Tea Dance Pass to receive free access to the pool party and a free chaise & towel for the entire week. Best to get there early because chairs are available on a first come\, first serve basis. You are not guaranteed a chaise with your pass.  \nNo Cover w/ PtownBears Tea Dance Pass or Bear Tags – $10 Cover w/o Bear Tags) \n 
URL:https://www.ptownbears.events/event/cannon-ball-bear-week-pool-party-2/2026-07-11/
LOCATION:Boatslip Resort\, 161 Commercial St.\, Provincetown\, MA\, 02657\, United States
CATEGORIES:Daily Events,Pool Parties
ATTACH;FMTTYPE=image/webp:https://www.ptownbears.events/wp-content/uploads/2026/04/Cannon-Ball2026.webp
GEO:42.0470329;-70.1901852
X-APPLE-STRUCTURED-LOCATION;VALUE=URI;X-ADDRESS=Boatslip Resort 161 Commercial St. Provincetown MA 02657 United States;X-APPLE-RADIUS=500;X-TITLE=161 Commercial St.:geo:-70.1901852,42.0470329
END:VEVENT
BEGIN:VEVENT
DTSTART;TZID=America/New_York:20260713T110000
DTEND;TZID=America/New_York:20260713T150000
DTSTAMP:20260419T151819
CREATED:20250406T155202Z
LAST-MODIFIED:20260419T184648Z
UID:10001867-1783940400-1783954800@www.ptownbears.events
SUMMARY:Color Splash Pool Party
DESCRIPTION:This event is open to all Bear Week Provincetown visitors. \nThis pool party brings together every part of the Bear Community! Every color of the rainbow\, every shade of Bear and every color of every Pride flag. Every part of the community is welcome to participate in this event. \nCash bar and food concession available at pool. \nLive DJ: TBA \n 
URL:https://www.ptownbears.events/event/color-splash-pool-party/
LOCATION:Provincetown Inn\, 1 Commercial St.\, Provincetown\, MA\, 02657\, United States
CATEGORIES:Daily Events,Day Time Events,Pool Parties,Pool Parties,Provincetown Inn Events,PtownBears Featured Key Events
ATTACH;FMTTYPE=image/png:https://www.ptownbears.events/wp-content/uploads/2023/04/PtownBearsIcon.png
GEO:42.0373842;-70.1960351
X-APPLE-STRUCTURED-LOCATION;VALUE=URI;X-ADDRESS=Provincetown Inn 1 Commercial St. Provincetown MA 02657 United States;X-APPLE-RADIUS=500;X-TITLE=1 Commercial St.:geo:-70.1960351,42.0373842
END:VEVENT
BEGIN:VEVENT
DTSTART;TZID=America/New_York:20260713T110000
DTEND;TZID=America/New_York:20260713T150000
DTSTAMP:20260419T151819
CREATED:20260418T215704Z
LAST-MODIFIED:20260418T221204Z
UID:10002035-1783940400-1783954800@www.ptownbears.events
SUMMARY:Cannon Ball Bear Week Pool Party
DESCRIPTION:Free w/ PtownBears Tea Dance Pass. \nBear Week Bear Tag holders can use their Tea Dance Pass to receive free access to the pool party and a free chaise & towel for the entire week. Best to get there early because chairs are available on a first come\, first serve basis. You are not guaranteed a chaise with your pass.  \nNo Cover w/ PtownBears Tea Dance Pass or Bear Tags – $10 Cover w/o Bear Tags) \n 
URL:https://www.ptownbears.events/event/cannon-ball-bear-week-pool-party-2/2026-07-13/
LOCATION:Boatslip Resort\, 161 Commercial St.\, Provincetown\, MA\, 02657\, United States
CATEGORIES:Daily Events,Pool Parties
ATTACH;FMTTYPE=image/webp:https://www.ptownbears.events/wp-content/uploads/2026/04/Cannon-Ball2026.webp
GEO:42.0470329;-70.1901852
X-APPLE-STRUCTURED-LOCATION;VALUE=URI;X-ADDRESS=Boatslip Resort 161 Commercial St. Provincetown MA 02657 United States;X-APPLE-RADIUS=500;X-TITLE=161 Commercial St.:geo:-70.1901852,42.0470329
END:VEVENT
BEGIN:VEVENT
DTSTART;TZID=America/New_York:20260714T110000
DTEND;TZID=America/New_York:20260714T150000
DTSTAMP:20260419T151819
CREATED:20260418T215704Z
LAST-MODIFIED:20260418T221204Z
UID:10002036-1784026800-1784041200@www.ptownbears.events
SUMMARY:Cannon Ball Bear Week Pool Party
DESCRIPTION:Free w/ PtownBears Tea Dance Pass. \nBear Week Bear Tag holders can use their Tea Dance Pass to receive free access to the pool party and a free chaise & towel for the entire week. Best to get there early because chairs are available on a first come\, first serve basis. You are not guaranteed a chaise with your pass.  \nNo Cover w/ PtownBears Tea Dance Pass or Bear Tags – $10 Cover w/o Bear Tags) \n 
URL:https://www.ptownbears.events/event/cannon-ball-bear-week-pool-party-2/2026-07-14/
LOCATION:Boatslip Resort\, 161 Commercial St.\, Provincetown\, MA\, 02657\, United States
CATEGORIES:Daily Events,Pool Parties
ATTACH;FMTTYPE=image/webp:https://www.ptownbears.events/wp-content/uploads/2026/04/Cannon-Ball2026.webp
GEO:42.0470329;-70.1901852
X-APPLE-STRUCTURED-LOCATION;VALUE=URI;X-ADDRESS=Boatslip Resort 161 Commercial St. Provincetown MA 02657 United States;X-APPLE-RADIUS=500;X-TITLE=161 Commercial St.:geo:-70.1901852,42.0470329
END:VEVENT
BEGIN:VEVENT
DTSTART;TZID=America/New_York:20260715T110000
DTEND;TZID=America/New_York:20260715T150000
DTSTAMP:20260419T151819
CREATED:20260418T215704Z
LAST-MODIFIED:20260418T221204Z
UID:10002037-1784113200-1784127600@www.ptownbears.events
SUMMARY:Cannon Ball Bear Week Pool Party
DESCRIPTION:Free w/ PtownBears Tea Dance Pass. \nBear Week Bear Tag holders can use their Tea Dance Pass to receive free access to the pool party and a free chaise & towel for the entire week. Best to get there early because chairs are available on a first come\, first serve basis. You are not guaranteed a chaise with your pass.  \nNo Cover w/ PtownBears Tea Dance Pass or Bear Tags – $10 Cover w/o Bear Tags) \n 
URL:https://www.ptownbears.events/event/cannon-ball-bear-week-pool-party-2/2026-07-15/
LOCATION:Boatslip Resort\, 161 Commercial St.\, Provincetown\, MA\, 02657\, United States
CATEGORIES:Daily Events,Pool Parties
ATTACH;FMTTYPE=image/webp:https://www.ptownbears.events/wp-content/uploads/2026/04/Cannon-Ball2026.webp
GEO:42.0470329;-70.1901852
X-APPLE-STRUCTURED-LOCATION;VALUE=URI;X-ADDRESS=Boatslip Resort 161 Commercial St. Provincetown MA 02657 United States;X-APPLE-RADIUS=500;X-TITLE=161 Commercial St.:geo:-70.1901852,42.0470329
END:VEVENT
BEGIN:VEVENT
DTSTART;TZID=America/New_York:20260716T110000
DTEND;TZID=America/New_York:20260716T150000
DTSTAMP:20260419T151819
CREATED:20260418T215704Z
LAST-MODIFIED:20260418T221204Z
UID:10002038-1784199600-1784214000@www.ptownbears.events
SUMMARY:Cannon Ball Bear Week Pool Party
DESCRIPTION:Free w/ PtownBears Tea Dance Pass. \nBear Week Bear Tag holders can use their Tea Dance Pass to receive free access to the pool party and a free chaise & towel for the entire week. Best to get there early because chairs are available on a first come\, first serve basis. You are not guaranteed a chaise with your pass.  \nNo Cover w/ PtownBears Tea Dance Pass or Bear Tags – $10 Cover w/o Bear Tags) \n 
URL:https://www.ptownbears.events/event/cannon-ball-bear-week-pool-party-2/2026-07-16/
LOCATION:Boatslip Resort\, 161 Commercial St.\, Provincetown\, MA\, 02657\, United States
CATEGORIES:Daily Events,Pool Parties
ATTACH;FMTTYPE=image/webp:https://www.ptownbears.events/wp-content/uploads/2026/04/Cannon-Ball2026.webp
GEO:42.0470329;-70.1901852
X-APPLE-STRUCTURED-LOCATION;VALUE=URI;X-ADDRESS=Boatslip Resort 161 Commercial St. Provincetown MA 02657 United States;X-APPLE-RADIUS=500;X-TITLE=161 Commercial St.:geo:-70.1901852,42.0470329
END:VEVENT
BEGIN:VEVENT
DTSTART;TZID=America/New_York:20260717T110000
DTEND;TZID=America/New_York:20260717T150000
DTSTAMP:20260419T151819
CREATED:20260418T215704Z
LAST-MODIFIED:20260418T221204Z
UID:10002039-1784286000-1784300400@www.ptownbears.events
SUMMARY:Cannon Ball Bear Week Pool Party
DESCRIPTION:Free w/ PtownBears Tea Dance Pass. \nBear Week Bear Tag holders can use their Tea Dance Pass to receive free access to the pool party and a free chaise & towel for the entire week. Best to get there early because chairs are available on a first come\, first serve basis. You are not guaranteed a chaise with your pass.  \nNo Cover w/ PtownBears Tea Dance Pass or Bear Tags – $10 Cover w/o Bear Tags) \n 
URL:https://www.ptownbears.events/event/cannon-ball-bear-week-pool-party-2/2026-07-17/
LOCATION:Boatslip Resort\, 161 Commercial St.\, Provincetown\, MA\, 02657\, United States
CATEGORIES:Daily Events,Pool Parties
ATTACH;FMTTYPE=image/webp:https://www.ptownbears.events/wp-content/uploads/2026/04/Cannon-Ball2026.webp
GEO:42.0470329;-70.1901852
X-APPLE-STRUCTURED-LOCATION;VALUE=URI;X-ADDRESS=Boatslip Resort 161 Commercial St. Provincetown MA 02657 United States;X-APPLE-RADIUS=500;X-TITLE=161 Commercial St.:geo:-70.1901852,42.0470329
END:VEVENT
BEGIN:VEVENT
DTSTART;TZID=America/New_York:20260718T110000
DTEND;TZID=America/New_York:20260718T150000
DTSTAMP:20260419T151819
CREATED:20260418T215704Z
LAST-MODIFIED:20260418T221204Z
UID:10002040-1784372400-1784386800@www.ptownbears.events
SUMMARY:Cannon Ball Bear Week Pool Party
DESCRIPTION:Free w/ PtownBears Tea Dance Pass. \nBear Week Bear Tag holders can use their Tea Dance Pass to receive free access to the pool party and a free chaise & towel for the entire week. Best to get there early because chairs are available on a first come\, first serve basis. You are not guaranteed a chaise with your pass.  \nNo Cover w/ PtownBears Tea Dance Pass or Bear Tags – $10 Cover w/o Bear Tags) \n 
URL:https://www.ptownbears.events/event/cannon-ball-bear-week-pool-party-2/2026-07-18/
LOCATION:Boatslip Resort\, 161 Commercial St.\, Provincetown\, MA\, 02657\, United States
CATEGORIES:Daily Events,Pool Parties
ATTACH;FMTTYPE=image/webp:https://www.ptownbears.events/wp-content/uploads/2026/04/Cannon-Ball2026.webp
GEO:42.0470329;-70.1901852
X-APPLE-STRUCTURED-LOCATION;VALUE=URI;X-ADDRESS=Boatslip Resort 161 Commercial St. Provincetown MA 02657 United States;X-APPLE-RADIUS=500;X-TITLE=161 Commercial St.:geo:-70.1901852,42.0470329
END:VEVENT
END:VCALENDAR