BEGIN:VCALENDAR
VERSION:2.0
PRODID:-//PtownBears.events - ECPv6.15.20//NONSGML v1.0//EN
CALSCALE:GREGORIAN
METHOD:PUBLISH
X-WR-CALNAME:PtownBears.events
X-ORIGINAL-URL:https://www.ptownbears.events
X-WR-CALDESC:Events for PtownBears.events
REFRESH-INTERVAL;VALUE=DURATION:PT1H
X-Robots-Tag:noindex
X-PUBLISHED-TTL:PT1H
BEGIN:VTIMEZONE
TZID:America/New_York
BEGIN:DAYLIGHT
TZOFFSETFROM:-0500
TZOFFSETTO:-0400
TZNAME:EDT
DTSTART:20250309T070000
END:DAYLIGHT
BEGIN:STANDARD
TZOFFSETFROM:-0400
TZOFFSETTO:-0500
TZNAME:EST
DTSTART:20251102T060000
END:STANDARD
BEGIN:DAYLIGHT
TZOFFSETFROM:-0500
TZOFFSETTO:-0400
TZNAME:EDT
DTSTART:20260308T070000
END:DAYLIGHT
BEGIN:STANDARD
TZOFFSETFROM:-0400
TZOFFSETTO:-0500
TZNAME:EST
DTSTART:20261101T060000
END:STANDARD
BEGIN:DAYLIGHT
TZOFFSETFROM:-0500
TZOFFSETTO:-0400
TZNAME:EDT
DTSTART:20270314T070000
END:DAYLIGHT
BEGIN:STANDARD
TZOFFSETFROM:-0400
TZOFFSETTO:-0500
TZNAME:EST
DTSTART:20271107T060000
END:STANDARD
END:VTIMEZONE
BEGIN:VEVENT
DTSTART;TZID=America/New_York:20260713T083000
DTEND;TZID=America/New_York:20260713T110000
DTSTAMP:20260420T035110
CREATED:20250301T001500Z
LAST-MODIFIED:20260419T201332Z
UID:10000767-1783931400-1783940400@www.ptownbears.events
SUMMARY:Pancake Breakfast
DESCRIPTION:This event is a Bear Tag Only Event. \nJoin the PtownBears for their annual pancake breakfast held at the King Hiram’s Lodge\, aka The Paul Revere Masonic Lodge. This is a popular event put on for our registered guest. Start your week off with a hardy breakfast. Coffee and hot water for tea will be available to compliment your breakfast.
URL:https://www.ptownbears.events/event/pancake-breakfast/
LOCATION:King Hiram Lodge\, 2 Masonic Place\, Provincetown\, MA\, 02657\, United States
CATEGORIES:BBQs & Food Events,Bear Tag Only Events,Day Time Events,PtownBears Featured Key Events
ATTACH;FMTTYPE=image/png:https://www.ptownbears.events/wp-content/uploads/2023/04/PtownBearsIcon.png
GEO:42.0498644;-70.1885948
X-APPLE-STRUCTURED-LOCATION;VALUE=URI;X-ADDRESS=King Hiram Lodge 2 Masonic Place Provincetown MA 02657 United States;X-APPLE-RADIUS=500;X-TITLE=2 Masonic Place:geo:-70.1885948,42.0498644
END:VEVENT
END:VCALENDAR