BEGIN:VCALENDAR
VERSION:2.0
PRODID:-//PtownBears.events - ECPv6.15.20//NONSGML v1.0//EN
CALSCALE:GREGORIAN
METHOD:PUBLISH
X-WR-CALNAME:PtownBears.events
X-ORIGINAL-URL:https://www.ptownbears.events
X-WR-CALDESC:Events for PtownBears.events
REFRESH-INTERVAL;VALUE=DURATION:PT1H
X-Robots-Tag:noindex
X-PUBLISHED-TTL:PT1H
BEGIN:VTIMEZONE
TZID:America/New_York
BEGIN:DAYLIGHT
TZOFFSETFROM:-0500
TZOFFSETTO:-0400
TZNAME:EDT
DTSTART:20250309T070000
END:DAYLIGHT
BEGIN:STANDARD
TZOFFSETFROM:-0400
TZOFFSETTO:-0500
TZNAME:EST
DTSTART:20251102T060000
END:STANDARD
BEGIN:DAYLIGHT
TZOFFSETFROM:-0500
TZOFFSETTO:-0400
TZNAME:EDT
DTSTART:20260308T070000
END:DAYLIGHT
BEGIN:STANDARD
TZOFFSETFROM:-0400
TZOFFSETTO:-0500
TZNAME:EST
DTSTART:20261101T060000
END:STANDARD
BEGIN:DAYLIGHT
TZOFFSETFROM:-0500
TZOFFSETTO:-0400
TZNAME:EDT
DTSTART:20270314T070000
END:DAYLIGHT
BEGIN:STANDARD
TZOFFSETFROM:-0400
TZOFFSETTO:-0500
TZNAME:EST
DTSTART:20271107T060000
END:STANDARD
END:VTIMEZONE
BEGIN:VEVENT
DTSTART;TZID=America/New_York:20260711T093000
DTEND;TZID=America/New_York:20260711T150000
DTSTAMP:20260424T043631
CREATED:20260419T190501Z
LAST-MODIFIED:20260419T190501Z
UID:10000385-1783762200-1783782000@www.ptownbears.events
SUMMARY:Boatslip Pool Chaise & Towel
DESCRIPTION:With all Bear Week Provincetown registration packages you receive a Tea Dance Pass. \nYour Tea Dance pass also gives you the option to use a chaise & towel by the pool daily from 9:30am to 3pm (approximately). Since this is a popular perk we suggest you get there early since there are a limited number chaises and are available on a first come\, first serve basis. Your Tea Dance Pass does not  guarantee you will get a chaise.  \nIf you are a registered Bear Week Provincetown guest your Tea Dance Pass will get you in free according to the package you purchased. \nCover charge w/o Bear Tag: $10 \nNotice: Prices/Cover charges not covered by Bear Tags are subject to change without notice and are at the discretion of the venue.
URL:https://www.ptownbears.events/event/boatslip-pool-chaise-towel-2/
LOCATION:Boatslip Resort\, 161 Commercial St.\, Provincetown\, MA\, 02657\, United States
CATEGORIES:Bear Tag Events,Chaise & Towel,Daily Events,Day Time Events
ATTACH;FMTTYPE=image/webp:https://www.ptownbears.events/wp-content/uploads/2025/02/BoatslipLogo2020-original.webp
GEO:42.0470329;-70.1901852
X-APPLE-STRUCTURED-LOCATION;VALUE=URI;X-ADDRESS=Boatslip Resort 161 Commercial St. Provincetown MA 02657 United States;X-APPLE-RADIUS=500;X-TITLE=161 Commercial St.:geo:-70.1901852,42.0470329
END:VEVENT
BEGIN:VEVENT
DTSTART;TZID=America/New_York:20260713T110000
DTEND;TZID=America/New_York:20260713T150000
DTSTAMP:20260424T043631
CREATED:20250406T155202Z
LAST-MODIFIED:20260422T202511Z
UID:10001867-1783940400-1783954800@www.ptownbears.events
SUMMARY:Color Splash Pool Party
DESCRIPTION:This event is open to all Bear Week Provincetown visitors. \nThis pool party brings together every part of the Bear Community! Every color of the rainbow\, every shade of Bear and every color of every Pride flag. Every part of the community is welcome to participate in this event. \nCash bar and food concession available at pool. \nLive DJ: TBA \n 
URL:https://www.ptownbears.events/event/color-splash-pool-party/
LOCATION:Provincetown Inn\, 1 Commercial St.\, Provincetown\, MA\, 02657\, United States
CATEGORIES:Day Time Events,Pool Parties,Provincetown Inn Events,PtownBears Featured Key Events
ATTACH;FMTTYPE=image/png:https://www.ptownbears.events/wp-content/uploads/2023/04/PtownBearsIcon.png
GEO:42.0373842;-70.1960351
X-APPLE-STRUCTURED-LOCATION;VALUE=URI;X-ADDRESS=Provincetown Inn 1 Commercial St. Provincetown MA 02657 United States;X-APPLE-RADIUS=500;X-TITLE=1 Commercial St.:geo:-70.1960351,42.0373842
END:VEVENT
BEGIN:VEVENT
DTSTART;TZID=America/New_York:20260714T120000
DTEND;TZID=America/New_York:20260714T160000
DTSTAMP:20260424T043631
CREATED:20260422T201607Z
LAST-MODIFIED:20260422T201607Z
UID:10002048-1784030400-1784044800@www.ptownbears.events
SUMMARY:PBG Country Bear Pool Party
DESCRIPTION:25% discount for PtownBears Bear Tags – $25 at the door w/o Bear Tags \nCowboy butts drive you nuts? Come join the fun for this country bear pool party. Save a horse\, ride a cowboy! \nLocation: TBA
URL:https://www.ptownbears.events/event/pbg-country-bear-pool-party/
CATEGORIES:Bear Tag Events,Day Time Events,Pool Parties
ATTACH;FMTTYPE=image/webp:https://www.ptownbears.events/wp-content/uploads/2025/06/PBG-Logo-Rainbow-Black-Type-Horizontal-Web-01-scaled-1.webp
END:VEVENT
BEGIN:VEVENT
DTSTART;TZID=America/New_York:20260717T120000
DTEND;TZID=America/New_York:20260717T160000
DTSTAMP:20260424T043631
CREATED:20250623T224908Z
LAST-MODIFIED:20260422T200223Z
UID:10001920-1784289600-1784304000@www.ptownbears.events
SUMMARY:PBG Wiener Roast
DESCRIPTION:25% discount at the door with PtownBears Bear Tags/ $75 w/o Bear Tags \nThis popular event returns to our calendar. Brought to you by the Provincetown Business Guild (PBG) at the Brass Key pool. Enjoy an afternoon at the pool with live entertainment and music. And of course\, enjoy your wiener your way poolside. \n  \n 
URL:https://www.ptownbears.events/event/pbg-wiener-roast/
LOCATION:Brass Key\, 67 Bradford St.\, Provincetown\, MA\, 02657\, United States
CATEGORIES:BBQs & Food Events,Bear Tag Events,Day Time Events,Pool Parties
ATTACH;FMTTYPE=image/webp:https://www.ptownbears.events/wp-content/uploads/2025/06/PBG-Logo-Rainbow-Black-Type-Horizontal-Web-01-scaled-1.webp
ORGANIZER;CN="Provincetown Business Guild (PBG)":MAILTO:rachael@ptown.org
END:VEVENT
END:VCALENDAR